BEGIN:VCALENDAR
VERSION:2.0
PRODID:-//Halevi Partner - ECPv6.13.2.1//NONSGML v1.0//EN
CALSCALE:GREGORIAN
METHOD:PUBLISH
X-ORIGINAL-URL:https://halevipartner.com
X-WR-CALDESC:Veranstaltungen für Halevi Partner
REFRESH-INTERVAL;VALUE=DURATION:PT1H
X-Robots-Tag:noindex
X-PUBLISHED-TTL:PT1H
BEGIN:VTIMEZONE
TZID:Europe/Vienna
BEGIN:DAYLIGHT
TZOFFSETFROM:+0100
TZOFFSETTO:+0200
TZNAME:CEST
DTSTART:20250330T010000
END:DAYLIGHT
BEGIN:STANDARD
TZOFFSETFROM:+0200
TZOFFSETTO:+0100
TZNAME:CET
DTSTART:20251026T010000
END:STANDARD
END:VTIMEZONE
BEGIN:VEVENT
DTSTART;TZID=Europe/Vienna:20251116T090000
DTEND;TZID=Europe/Vienna:20251116T170000
DTSTAMP:20260424T012415
CREATED:20250626T054749Z
LAST-MODIFIED:20250703T120213Z
UID:10000018-1763283600-1763312400@halevipartner.com
SUMMARY:ISB Bewerb
DESCRIPTION:
URL:https://halevipartner.com/event/isb-bewerb-3/
ATTACH;FMTTYPE=image/jpeg:https://halevipartner.com/wp-content/uploads/2025/06/Download.jpeg
END:VEVENT
END:VCALENDAR