BEGIN:VCALENDAR
VERSION:2.0
PRODID:-//Halevi Partner - ECPv6.13.2.1//NONSGML v1.0//EN
CALSCALE:GREGORIAN
METHOD:PUBLISH
X-WR-CALNAME:Halevi Partner
X-ORIGINAL-URL:https://halevipartner.com
X-WR-CALDESC:Veranstaltungen für Halevi Partner
REFRESH-INTERVAL;VALUE=DURATION:PT1H
X-Robots-Tag:noindex
X-PUBLISHED-TTL:PT1H
BEGIN:VTIMEZONE
TZID:Europe/Vienna
BEGIN:DAYLIGHT
TZOFFSETFROM:+0100
TZOFFSETTO:+0200
TZNAME:CEST
DTSTART:20250330T010000
END:DAYLIGHT
BEGIN:STANDARD
TZOFFSETFROM:+0200
TZOFFSETTO:+0100
TZNAME:CET
DTSTART:20251026T010000
END:STANDARD
END:VTIMEZONE
BEGIN:VEVENT
DTSTART;TZID=Europe/Vienna:20251118T183000
DTEND;TZID=Europe/Vienna:20251118T200000
DTSTAMP:20260424T012101
CREATED:20250902T144835Z
LAST-MODIFIED:20250902T144835Z
UID:10000515-1763490600-1763496000@halevipartner.com
SUMMARY:Pistol 2 (Kurs 4 Einheiten)
DESCRIPTION:Dieser Gruppenkurs baut auf Pistol Basic auf und ist für Schützen geeignet\, die eine Einführung in das instinktive und Combat Schießen suchen. \nInhalte: \nInstinktives Schießen (Deut-Schuss ohne Verwendung von Kimme und Korn) \nSalven Schießen \nDas Schießen aus der knieenden Position \nMagazinwechsel \nDas schnelle Beheben von Ladehemmungen \nDer Kurs besteht aus 4 Einheiten\, jeden 2. Dienstag ab 21. Oktober um 18:30. Der Einstieg ist jederzeit möglich. Es ist nicht notwendig an 4 aufeinander folgenden Terminen teilzunehmen. \nWir empfehlen für den Lernfortschritt\, die 4 Kurseinheiten innerhalb von 10 Wochen zu absolvieren.
URL:https://halevipartner.com/event/pistol-2-kurs-4-einheiten/2025-11-18/
END:VEVENT
END:VCALENDAR