BEGIN:VCALENDAR
VERSION:2.0
PRODID:-//Halevi Partner - ECPv6.13.2.1//NONSGML v1.0//EN
CALSCALE:GREGORIAN
METHOD:PUBLISH
X-ORIGINAL-URL:https://halevipartner.com
X-WR-CALDESC:Veranstaltungen für Halevi Partner
REFRESH-INTERVAL;VALUE=DURATION:PT1H
X-Robots-Tag:noindex
X-PUBLISHED-TTL:PT1H
BEGIN:VTIMEZONE
TZID:Europe/Vienna
BEGIN:DAYLIGHT
TZOFFSETFROM:+0100
TZOFFSETTO:+0200
TZNAME:CEST
DTSTART:20250330T010000
END:DAYLIGHT
BEGIN:STANDARD
TZOFFSETFROM:+0200
TZOFFSETTO:+0100
TZNAME:CET
DTSTART:20251026T010000
END:STANDARD
END:VTIMEZONE
BEGIN:VEVENT
DTSTART;TZID=Europe/Vienna:20251130T100000
DTEND;TZID=Europe/Vienna:20251130T130000
DTSTAMP:20260424T012417
CREATED:20251116T142352Z
LAST-MODIFIED:20251116T142352Z
UID:10000518-1764496800-1764507600@halevipartner.com
SUMMARY:Tactical Sunday
DESCRIPTION:Szenarien Training: Taktik im Feuergefecht. Mit der Option für zusätzliches professionelles Virtual Reality Szenarientraining mit VR Brille.
URL:https://halevipartner.com/event/tactical-sunday-2/
END:VEVENT
END:VCALENDAR