BEGIN:VCALENDAR
VERSION:2.0
PRODID:-//Halevi Partner - ECPv6.13.2.1//NONSGML v1.0//EN
CALSCALE:GREGORIAN
METHOD:PUBLISH
X-ORIGINAL-URL:https://halevipartner.com
X-WR-CALDESC:Veranstaltungen für Halevi Partner
REFRESH-INTERVAL;VALUE=DURATION:PT1H
X-Robots-Tag:noindex
X-PUBLISHED-TTL:PT1H
BEGIN:VTIMEZONE
TZID:Europe/Vienna
BEGIN:DAYLIGHT
TZOFFSETFROM:+0100
TZOFFSETTO:+0200
TZNAME:CEST
DTSTART:20260329T010000
END:DAYLIGHT
BEGIN:STANDARD
TZOFFSETFROM:+0200
TZOFFSETTO:+0100
TZNAME:CET
DTSTART:20261025T010000
END:STANDARD
END:VTIMEZONE
BEGIN:VEVENT
DTSTART;TZID=Europe/Vienna:20260121T180000
DTEND;TZID=Europe/Vienna:20260121T193000
DTSTAMP:20260423T215559
CREATED:20251117T054651Z
LAST-MODIFIED:20251117T054651Z
UID:10000534-1769018400-1769023800@halevipartner.com
SUMMARY:OPEN KRAV MAGA
DESCRIPTION:Alle Levels willkommen.
URL:https://halevipartner.com/event/open-krav-maga-2/2026-01-21/
END:VEVENT
END:VCALENDAR