BEGIN:VCALENDAR
VERSION:2.0
PRODID:-//Halevi Partner - ECPv6.13.2.1//NONSGML v1.0//EN
CALSCALE:GREGORIAN
METHOD:PUBLISH
X-ORIGINAL-URL:https://halevipartner.com
X-WR-CALDESC:Veranstaltungen für Halevi Partner
REFRESH-INTERVAL;VALUE=DURATION:PT1H
X-Robots-Tag:noindex
X-PUBLISHED-TTL:PT1H
BEGIN:VTIMEZONE
TZID:Europe/Vienna
BEGIN:DAYLIGHT
TZOFFSETFROM:+0100
TZOFFSETTO:+0200
TZNAME:CEST
DTSTART:20250330T010000
END:DAYLIGHT
BEGIN:STANDARD
TZOFFSETFROM:+0200
TZOFFSETTO:+0100
TZNAME:CET
DTSTART:20251026T010000
END:STANDARD
END:VTIMEZONE
BEGIN:VEVENT
DTSTART;TZID=Europe/Vienna:20251103T183000
DTEND;TZID=Europe/Vienna:20251103T200000
DTSTAMP:20260423T234923
CREATED:20250703T123441Z
LAST-MODIFIED:20250703T123441Z
UID:10000482-1762194600-1762200000@halevipartner.com
SUMMARY:Pistole Basic
DESCRIPTION:Pistole Basic & Perfektion statisches Sportschießen\n\n\n\n\n\n\n\n\nPistole Basic & Perfektion statisches Sportschießen. Wöchentlicher fortlaufender Gruppenkurs Donnerstags 18:30 und jeden zweiten Montag Einstieg jederzeit möglich. Es ist nicht notwendig\, an 4 aufeinander folgenden Terminen teilzunehmen. Wir empfehlen für den Lernfortschritt jedoch\, die 4 Kurseinheiten innerhalb von 10 Wochen zu absolvieren.Der Kurs ist gleichermaßen für Pistolen- und Revolverschützen. Bis zu 4 Teilnehmern beträgt die Kursdauer 60 min\, ab 4-6 Teilnehmern 90 min.
URL:https://halevipartner.com/event/pistole-basic-2-2/2025-11-03/
ATTACH;FMTTYPE=image/jpeg:https://halevipartner.com/wp-content/uploads/2025/07/IMG_2269-1.jpg
END:VEVENT
BEGIN:VEVENT
DTSTART;TZID=Europe/Vienna:20251104T183000
DTEND;TZID=Europe/Vienna:20251104T200000
DTSTAMP:20260423T234923
CREATED:20250902T144835Z
LAST-MODIFIED:20250902T144835Z
UID:10000514-1762281000-1762286400@halevipartner.com
SUMMARY:Pistol 2 (Kurs 4 Einheiten)
DESCRIPTION:Dieser Gruppenkurs baut auf Pistol Basic auf und ist für Schützen geeignet\, die eine Einführung in das instinktive und Combat Schießen suchen. \nInhalte: \nInstinktives Schießen (Deut-Schuss ohne Verwendung von Kimme und Korn) \nSalven Schießen \nDas Schießen aus der knieenden Position \nMagazinwechsel \nDas schnelle Beheben von Ladehemmungen \nDer Kurs besteht aus 4 Einheiten\, jeden 2. Dienstag ab 21. Oktober um 18:30. Der Einstieg ist jederzeit möglich. Es ist nicht notwendig an 4 aufeinander folgenden Terminen teilzunehmen. \nWir empfehlen für den Lernfortschritt\, die 4 Kurseinheiten innerhalb von 10 Wochen zu absolvieren.
URL:https://halevipartner.com/event/pistol-2-kurs-4-einheiten/2025-11-04/
END:VEVENT
BEGIN:VEVENT
DTSTART;TZID=Europe/Vienna:20251105T180000
DTEND;TZID=Europe/Vienna:20251105T193000
DTSTAMP:20260423T234923
CREATED:20250704T112831Z
LAST-MODIFIED:20250729T092249Z
UID:10000501-1762365600-1762371000@halevipartner.com
SUMMARY:OPEN KRAV MAGA
DESCRIPTION:Open Krav Maga\n\n\nKrav Maga\, die von den israelischen Streitkräften entwickelte Nahkampftechnik\, hat sich weltweit als effiziente waffenlose Kampf — und Sellbstverteidigungstechnik etabliert. \nKrav Maga ist eigentlich kein Kampfsport\, da es nicht darum geht Punkte zu erzielen\, sondern einzig darum\, den Gegner zu besiegen\, wenn ein Kampf unvermeidbar ist. \n\n\n\n\n\n  \nOffene wöchentliche Krav Maga Klasse für alle Levels\, Männer und Frauen ab 16 Jahre. Mittwoch 18:00 bis 19:15 \nZehnerblock: 148 €.-
URL:https://halevipartner.com/event/open-krav-maga/2025-11-05/
LOCATION:Combat & Schieß-Trainingszentrum Halevi Partner\, Rothergasse 2\, Wien\, 1220\, Austria
ATTACH;FMTTYPE=image/jpeg:https://halevipartner.com/wp-content/uploads/2025/06/PHOTO-2025-06-23-15-46-37.jpg
ORGANIZER;CN="Halevi Partner":MAILTO:office@halevipartner.com
END:VEVENT
BEGIN:VEVENT
DTSTART;TZID=Europe/Vienna:20251106T183000
DTEND;TZID=Europe/Vienna:20251106T200000
DTSTAMP:20260423T234923
CREATED:20250703T122329Z
LAST-MODIFIED:20250703T122446Z
UID:10000462-1762453800-1762459200@halevipartner.com
SUMMARY:Pistole Basic
DESCRIPTION:Pistole Basic & Perfektion statisches Sportschießen\n\n\n\n\n\n\n\n\nPistole Basic & Perfektion statisches Sportschießen. Wöchentlicher fortlaufender Gruppenkurs Donnerstags 18:30 und jeden zweiten Montag Einstieg jederzeit möglich. Es ist nicht notwendig\, an 4 aufeinander folgenden Terminen teilzunehmen. Wir empfehlen für den Lernfortschritt jedoch\, die 4 Kurseinheiten innerhalb von 10 Wochen zu absolvieren.Der Kurs ist gleichermaßen für Pistolen- und Revolverschützen. Bis zu 4 Teilnehmern beträgt die Kursdauer 60 min\, ab 4-6 Teilnehmern 90 min.
URL:https://halevipartner.com/event/pistole-basic/2025-11-06/
ATTACH;FMTTYPE=image/jpeg:https://halevipartner.com/wp-content/uploads/2025/07/IMG_2269-1.jpg
END:VEVENT
BEGIN:VEVENT
DTSTART;TZID=Europe/Vienna:20251112T180000
DTEND;TZID=Europe/Vienna:20251112T193000
DTSTAMP:20260423T234923
CREATED:20250704T112831Z
LAST-MODIFIED:20250729T092249Z
UID:10000502-1762970400-1762975800@halevipartner.com
SUMMARY:OPEN KRAV MAGA
DESCRIPTION:Open Krav Maga\n\n\nKrav Maga\, die von den israelischen Streitkräften entwickelte Nahkampftechnik\, hat sich weltweit als effiziente waffenlose Kampf — und Sellbstverteidigungstechnik etabliert. \nKrav Maga ist eigentlich kein Kampfsport\, da es nicht darum geht Punkte zu erzielen\, sondern einzig darum\, den Gegner zu besiegen\, wenn ein Kampf unvermeidbar ist. \n\n\n\n\n\n  \nOffene wöchentliche Krav Maga Klasse für alle Levels\, Männer und Frauen ab 16 Jahre. Mittwoch 18:00 bis 19:15 \nZehnerblock: 148 €.-
URL:https://halevipartner.com/event/open-krav-maga/2025-11-12/
LOCATION:Combat & Schieß-Trainingszentrum Halevi Partner\, Rothergasse 2\, Wien\, 1220\, Austria
ATTACH;FMTTYPE=image/jpeg:https://halevipartner.com/wp-content/uploads/2025/06/PHOTO-2025-06-23-15-46-37.jpg
ORGANIZER;CN="Halevi Partner":MAILTO:office@halevipartner.com
END:VEVENT
BEGIN:VEVENT
DTSTART;TZID=Europe/Vienna:20251113T183000
DTEND;TZID=Europe/Vienna:20251113T200000
DTSTAMP:20260423T234923
CREATED:20250703T122329Z
LAST-MODIFIED:20250703T122446Z
UID:10000463-1763058600-1763064000@halevipartner.com
SUMMARY:Pistole Basic
DESCRIPTION:Pistole Basic & Perfektion statisches Sportschießen\n\n\n\n\n\n\n\n\nPistole Basic & Perfektion statisches Sportschießen. Wöchentlicher fortlaufender Gruppenkurs Donnerstags 18:30 und jeden zweiten Montag Einstieg jederzeit möglich. Es ist nicht notwendig\, an 4 aufeinander folgenden Terminen teilzunehmen. Wir empfehlen für den Lernfortschritt jedoch\, die 4 Kurseinheiten innerhalb von 10 Wochen zu absolvieren.Der Kurs ist gleichermaßen für Pistolen- und Revolverschützen. Bis zu 4 Teilnehmern beträgt die Kursdauer 60 min\, ab 4-6 Teilnehmern 90 min.
URL:https://halevipartner.com/event/pistole-basic/2025-11-13/
ATTACH;FMTTYPE=image/jpeg:https://halevipartner.com/wp-content/uploads/2025/07/IMG_2269-1.jpg
END:VEVENT
BEGIN:VEVENT
DTSTART;TZID=Europe/Vienna:20251115T080000
DTEND;TZID=Europe/Vienna:20251115T170000
DTSTAMP:20260423T234923
CREATED:20250626T054700Z
LAST-MODIFIED:20250703T120244Z
UID:10000017-1763193600-1763226000@halevipartner.com
SUMMARY:ISB Bewerb
DESCRIPTION:
URL:https://halevipartner.com/event/isb-bewerb-2/
ATTACH;FMTTYPE=image/jpeg:https://halevipartner.com/wp-content/uploads/2025/06/Download.jpeg
END:VEVENT
BEGIN:VEVENT
DTSTART;TZID=Europe/Vienna:20251116T090000
DTEND;TZID=Europe/Vienna:20251116T170000
DTSTAMP:20260423T234923
CREATED:20250626T054749Z
LAST-MODIFIED:20250703T120213Z
UID:10000018-1763283600-1763312400@halevipartner.com
SUMMARY:ISB Bewerb
DESCRIPTION:
URL:https://halevipartner.com/event/isb-bewerb-3/
ATTACH;FMTTYPE=image/jpeg:https://halevipartner.com/wp-content/uploads/2025/06/Download.jpeg
END:VEVENT
BEGIN:VEVENT
DTSTART;TZID=Europe/Vienna:20251117T183000
DTEND;TZID=Europe/Vienna:20251117T200000
DTSTAMP:20260423T234923
CREATED:20250703T123441Z
LAST-MODIFIED:20250703T123441Z
UID:10000483-1763404200-1763409600@halevipartner.com
SUMMARY:Pistole Basic
DESCRIPTION:Pistole Basic & Perfektion statisches Sportschießen\n\n\n\n\n\n\n\n\nPistole Basic & Perfektion statisches Sportschießen. Wöchentlicher fortlaufender Gruppenkurs Donnerstags 18:30 und jeden zweiten Montag Einstieg jederzeit möglich. Es ist nicht notwendig\, an 4 aufeinander folgenden Terminen teilzunehmen. Wir empfehlen für den Lernfortschritt jedoch\, die 4 Kurseinheiten innerhalb von 10 Wochen zu absolvieren.Der Kurs ist gleichermaßen für Pistolen- und Revolverschützen. Bis zu 4 Teilnehmern beträgt die Kursdauer 60 min\, ab 4-6 Teilnehmern 90 min.
URL:https://halevipartner.com/event/pistole-basic-2-2/2025-11-17/
ATTACH;FMTTYPE=image/jpeg:https://halevipartner.com/wp-content/uploads/2025/07/IMG_2269-1.jpg
END:VEVENT
BEGIN:VEVENT
DTSTART;TZID=Europe/Vienna:20251118T183000
DTEND;TZID=Europe/Vienna:20251118T200000
DTSTAMP:20260423T234923
CREATED:20250902T144835Z
LAST-MODIFIED:20250902T144835Z
UID:10000515-1763490600-1763496000@halevipartner.com
SUMMARY:Pistol 2 (Kurs 4 Einheiten)
DESCRIPTION:Dieser Gruppenkurs baut auf Pistol Basic auf und ist für Schützen geeignet\, die eine Einführung in das instinktive und Combat Schießen suchen. \nInhalte: \nInstinktives Schießen (Deut-Schuss ohne Verwendung von Kimme und Korn) \nSalven Schießen \nDas Schießen aus der knieenden Position \nMagazinwechsel \nDas schnelle Beheben von Ladehemmungen \nDer Kurs besteht aus 4 Einheiten\, jeden 2. Dienstag ab 21. Oktober um 18:30. Der Einstieg ist jederzeit möglich. Es ist nicht notwendig an 4 aufeinander folgenden Terminen teilzunehmen. \nWir empfehlen für den Lernfortschritt\, die 4 Kurseinheiten innerhalb von 10 Wochen zu absolvieren.
URL:https://halevipartner.com/event/pistol-2-kurs-4-einheiten/2025-11-18/
END:VEVENT
BEGIN:VEVENT
DTSTART;TZID=Europe/Vienna:20251119T180000
DTEND;TZID=Europe/Vienna:20251119T193000
DTSTAMP:20260423T234923
CREATED:20250704T112831Z
LAST-MODIFIED:20250729T092249Z
UID:10000503-1763575200-1763580600@halevipartner.com
SUMMARY:OPEN KRAV MAGA
DESCRIPTION:Open Krav Maga\n\n\nKrav Maga\, die von den israelischen Streitkräften entwickelte Nahkampftechnik\, hat sich weltweit als effiziente waffenlose Kampf — und Sellbstverteidigungstechnik etabliert. \nKrav Maga ist eigentlich kein Kampfsport\, da es nicht darum geht Punkte zu erzielen\, sondern einzig darum\, den Gegner zu besiegen\, wenn ein Kampf unvermeidbar ist. \n\n\n\n\n\n  \nOffene wöchentliche Krav Maga Klasse für alle Levels\, Männer und Frauen ab 16 Jahre. Mittwoch 18:00 bis 19:15 \nZehnerblock: 148 €.-
URL:https://halevipartner.com/event/open-krav-maga/2025-11-19/
LOCATION:Combat & Schieß-Trainingszentrum Halevi Partner\, Rothergasse 2\, Wien\, 1220\, Austria
ATTACH;FMTTYPE=image/jpeg:https://halevipartner.com/wp-content/uploads/2025/06/PHOTO-2025-06-23-15-46-37.jpg
ORGANIZER;CN="Halevi Partner":MAILTO:office@halevipartner.com
END:VEVENT
BEGIN:VEVENT
DTSTART;TZID=Europe/Vienna:20251120T183000
DTEND;TZID=Europe/Vienna:20251120T200000
DTSTAMP:20260423T234923
CREATED:20250703T122329Z
LAST-MODIFIED:20250703T122446Z
UID:10000464-1763663400-1763668800@halevipartner.com
SUMMARY:Pistole Basic
DESCRIPTION:Pistole Basic & Perfektion statisches Sportschießen\n\n\n\n\n\n\n\n\nPistole Basic & Perfektion statisches Sportschießen. Wöchentlicher fortlaufender Gruppenkurs Donnerstags 18:30 und jeden zweiten Montag Einstieg jederzeit möglich. Es ist nicht notwendig\, an 4 aufeinander folgenden Terminen teilzunehmen. Wir empfehlen für den Lernfortschritt jedoch\, die 4 Kurseinheiten innerhalb von 10 Wochen zu absolvieren.Der Kurs ist gleichermaßen für Pistolen- und Revolverschützen. Bis zu 4 Teilnehmern beträgt die Kursdauer 60 min\, ab 4-6 Teilnehmern 90 min.
URL:https://halevipartner.com/event/pistole-basic/2025-11-20/
ATTACH;FMTTYPE=image/jpeg:https://halevipartner.com/wp-content/uploads/2025/07/IMG_2269-1.jpg
END:VEVENT
BEGIN:VEVENT
DTSTART;TZID=Europe/Vienna:20251126T180000
DTEND;TZID=Europe/Vienna:20251126T193000
DTSTAMP:20260423T234923
CREATED:20250704T112831Z
LAST-MODIFIED:20250729T092249Z
UID:10000504-1764180000-1764185400@halevipartner.com
SUMMARY:OPEN KRAV MAGA
DESCRIPTION:Open Krav Maga\n\n\nKrav Maga\, die von den israelischen Streitkräften entwickelte Nahkampftechnik\, hat sich weltweit als effiziente waffenlose Kampf — und Sellbstverteidigungstechnik etabliert. \nKrav Maga ist eigentlich kein Kampfsport\, da es nicht darum geht Punkte zu erzielen\, sondern einzig darum\, den Gegner zu besiegen\, wenn ein Kampf unvermeidbar ist. \n\n\n\n\n\n  \nOffene wöchentliche Krav Maga Klasse für alle Levels\, Männer und Frauen ab 16 Jahre. Mittwoch 18:00 bis 19:15 \nZehnerblock: 148 €.-
URL:https://halevipartner.com/event/open-krav-maga/2025-11-26/
LOCATION:Combat & Schieß-Trainingszentrum Halevi Partner\, Rothergasse 2\, Wien\, 1220\, Austria
ATTACH;FMTTYPE=image/jpeg:https://halevipartner.com/wp-content/uploads/2025/06/PHOTO-2025-06-23-15-46-37.jpg
ORGANIZER;CN="Halevi Partner":MAILTO:office@halevipartner.com
END:VEVENT
BEGIN:VEVENT
DTSTART;TZID=Europe/Vienna:20251127T183000
DTEND;TZID=Europe/Vienna:20251127T200000
DTSTAMP:20260423T234923
CREATED:20250703T122329Z
LAST-MODIFIED:20250703T122446Z
UID:10000465-1764268200-1764273600@halevipartner.com
SUMMARY:Pistole Basic
DESCRIPTION:Pistole Basic & Perfektion statisches Sportschießen\n\n\n\n\n\n\n\n\nPistole Basic & Perfektion statisches Sportschießen. Wöchentlicher fortlaufender Gruppenkurs Donnerstags 18:30 und jeden zweiten Montag Einstieg jederzeit möglich. Es ist nicht notwendig\, an 4 aufeinander folgenden Terminen teilzunehmen. Wir empfehlen für den Lernfortschritt jedoch\, die 4 Kurseinheiten innerhalb von 10 Wochen zu absolvieren.Der Kurs ist gleichermaßen für Pistolen- und Revolverschützen. Bis zu 4 Teilnehmern beträgt die Kursdauer 60 min\, ab 4-6 Teilnehmern 90 min.
URL:https://halevipartner.com/event/pistole-basic/2025-11-27/
ATTACH;FMTTYPE=image/jpeg:https://halevipartner.com/wp-content/uploads/2025/07/IMG_2269-1.jpg
END:VEVENT
BEGIN:VEVENT
DTSTART;TZID=Europe/Vienna:20251130T100000
DTEND;TZID=Europe/Vienna:20251130T130000
DTSTAMP:20260423T234923
CREATED:20251116T142352Z
LAST-MODIFIED:20251116T142352Z
UID:10000518-1764496800-1764507600@halevipartner.com
SUMMARY:Tactical Sunday
DESCRIPTION:Szenarien Training: Taktik im Feuergefecht. Mit der Option für zusätzliches professionelles Virtual Reality Szenarientraining mit VR Brille.
URL:https://halevipartner.com/event/tactical-sunday-2/
END:VEVENT
END:VCALENDAR