BEGIN:VCALENDAR
VERSION:2.0
PRODID:-//Halevi Partner - ECPv6.13.2.1//NONSGML v1.0//EN
CALSCALE:GREGORIAN
METHOD:PUBLISH
X-ORIGINAL-URL:https://halevipartner.com
X-WR-CALDESC:Veranstaltungen für Halevi Partner
REFRESH-INTERVAL;VALUE=DURATION:PT1H
X-Robots-Tag:noindex
X-PUBLISHED-TTL:PT1H
BEGIN:VTIMEZONE
TZID:Europe/Vienna
BEGIN:DAYLIGHT
TZOFFSETFROM:+0100
TZOFFSETTO:+0200
TZNAME:CEST
DTSTART:20260329T010000
END:DAYLIGHT
BEGIN:STANDARD
TZOFFSETFROM:+0200
TZOFFSETTO:+0100
TZNAME:CET
DTSTART:20261025T010000
END:STANDARD
END:VTIMEZONE
BEGIN:VEVENT
DTSTART;TZID=Europe/Vienna:20260304T180000
DTEND;TZID=Europe/Vienna:20260304T193000
DTSTAMP:20260423T164831
CREATED:20251117T054651Z
LAST-MODIFIED:20251117T054651Z
UID:10000540-1772647200-1772652600@halevipartner.com
SUMMARY:OPEN KRAV MAGA
DESCRIPTION:Alle Levels willkommen.
URL:https://halevipartner.com/event/open-krav-maga-2/2026-03-04/
END:VEVENT
BEGIN:VEVENT
DTSTART;TZID=Europe/Vienna:20260311T180000
DTEND;TZID=Europe/Vienna:20260311T193000
DTSTAMP:20260423T164831
CREATED:20251117T054651Z
LAST-MODIFIED:20251117T054651Z
UID:10000541-1773252000-1773257400@halevipartner.com
SUMMARY:OPEN KRAV MAGA
DESCRIPTION:Alle Levels willkommen.
URL:https://halevipartner.com/event/open-krav-maga-2/2026-03-11/
END:VEVENT
BEGIN:VEVENT
DTSTART;TZID=Europe/Vienna:20260317T180000
DTEND;TZID=Europe/Vienna:20260317T203000
DTSTAMP:20260423T164831
CREATED:20260113T080850Z
LAST-MODIFIED:20260113T080850Z
UID:10000556-1773770400-1773779400@halevipartner.com
SUMMARY:Rifle Basic Workshop
DESCRIPTION:Ein 3 Stunden Workshop für alle\, die eine solide Basis-Ausbildung mit ihrer Langwaffe (AR15 und jedes halbautomatische Gewehr außer Schrot und Slugs) wollen.
URL:https://halevipartner.com/event/rifle-basic-workshop-2/
END:VEVENT
BEGIN:VEVENT
DTSTART;TZID=Europe/Vienna:20260318T180000
DTEND;TZID=Europe/Vienna:20260318T193000
DTSTAMP:20260423T164831
CREATED:20251117T054651Z
LAST-MODIFIED:20251117T054651Z
UID:10000542-1773856800-1773862200@halevipartner.com
SUMMARY:OPEN KRAV MAGA
DESCRIPTION:Alle Levels willkommen.
URL:https://halevipartner.com/event/open-krav-maga-2/2026-03-18/
END:VEVENT
BEGIN:VEVENT
DTSTART;TZID=Europe/Vienna:20260322T100000
DTEND;TZID=Europe/Vienna:20260322T130000
DTSTAMP:20260423T164831
CREATED:20251116T143229Z
LAST-MODIFIED:20251116T143229Z
UID:10000521-1774173600-1774184400@halevipartner.com
SUMMARY:Tactical Sunday
DESCRIPTION:VIP Personenschutz: Ein Einblick in das Training und die Arbeitsweise von Bodyguards. Wir trainieren die klassischen Bewegungsabläufe die beim Personenschutz mit einem einzelnen Bewacher und mit zwei Bewachern praktiziert werden.
URL:https://halevipartner.com/event/tactical-sunday-6/
END:VEVENT
BEGIN:VEVENT
DTSTART;TZID=Europe/Vienna:20260325T180000
DTEND;TZID=Europe/Vienna:20260325T193000
DTSTAMP:20260423T164831
CREATED:20251117T054651Z
LAST-MODIFIED:20251117T054651Z
UID:10000543-1774461600-1774467000@halevipartner.com
SUMMARY:OPEN KRAV MAGA
DESCRIPTION:Alle Levels willkommen.
URL:https://halevipartner.com/event/open-krav-maga-2/2026-03-25/
END:VEVENT
BEGIN:VEVENT
DTSTART;TZID=Europe/Vienna:20260325T180000
DTEND;TZID=Europe/Vienna:20260325T203000
DTSTAMP:20260423T164831
CREATED:20251116T150642Z
LAST-MODIFIED:20251116T150642Z
UID:10000525-1774461600-1774470600@halevipartner.com
SUMMARY:Women Only Pistol Basic
DESCRIPTION:Ein Workshop mit Übungen\, Techniken\, Tipps und Tricks exklusiv und speziell für Frauen\, die ihre Fertigkeiten mit der Pistole perfektionieren wollen. Der Workshop wird von Richard\, Gründungspartner von Halevi Partner\, gehalten.
URL:https://halevipartner.com/event/women-only-pistol-basic-2/
END:VEVENT
BEGIN:VEVENT
DTSTART;TZID=Europe/Vienna:20260325T180000
DTEND;TZID=Europe/Vienna:20260325T203000
DTSTAMP:20260423T164831
CREATED:20260113T080657Z
LAST-MODIFIED:20260113T080657Z
UID:10000555-1774461600-1774470600@halevipartner.com
SUMMARY:Women Only Pistol Basic
DESCRIPTION:In diesem Workshop exklusiv für Frauen arbeiten wir an den Basics von der Sicherheit im Umgang mit der Waffe bis zur Treffergenauigkeit und bis zum instinktiven Deutschuss für die Selbstverteidigung.
URL:https://halevipartner.com/event/women-only-pistol-basic-5/
END:VEVENT
END:VCALENDAR