BEGIN:VCALENDAR
VERSION:2.0
PRODID:-//Halevi Partner - ECPv6.13.2.1//NONSGML v1.0//EN
CALSCALE:GREGORIAN
METHOD:PUBLISH
X-WR-CALNAME:Halevi Partner
X-ORIGINAL-URL:https://halevipartner.com
X-WR-CALDESC:Veranstaltungen für Halevi Partner
REFRESH-INTERVAL;VALUE=DURATION:PT1H
X-Robots-Tag:noindex
X-PUBLISHED-TTL:PT1H
BEGIN:VTIMEZONE
TZID:Europe/Vienna
BEGIN:DAYLIGHT
TZOFFSETFROM:+0100
TZOFFSETTO:+0200
TZNAME:CEST
DTSTART:20250330T010000
END:DAYLIGHT
BEGIN:STANDARD
TZOFFSETFROM:+0200
TZOFFSETTO:+0100
TZNAME:CET
DTSTART:20251026T010000
END:STANDARD
END:VTIMEZONE
BEGIN:VEVENT
DTSTART;TZID=Europe/Vienna:20250905T100000
DTEND;TZID=Europe/Vienna:20250905T210000
DTSTAMP:20260424T051821
CREATED:20250626T050443Z
LAST-MODIFIED:20250718T102743Z
UID:10000014-1757066400-1757106000@halevipartner.com
SUMMARY:Halevi Sommerfest
DESCRIPTION:
URL:https://halevipartner.com/event/halevi-sommerfest/
LOCATION:Combat & Schieß-Trainingszentrum Halevi Partner\, Rothergasse 2\, Wien\, 1220\, Austria
ATTACH;FMTTYPE=image/jpeg:https://halevipartner.com/wp-content/uploads/2025/06/Copy-of-Einladung-Sommerfest-mit-QR.jpg
ORGANIZER;CN="Halevi Partner":MAILTO:office@halevipartner.com
END:VEVENT
BEGIN:VEVENT
DTSTART;TZID=Europe/Vienna:20250903T180000
DTEND;TZID=Europe/Vienna:20250903T193000
DTSTAMP:20260424T051821
CREATED:20250704T112831Z
LAST-MODIFIED:20250729T092249Z
UID:10000492-1756922400-1756927800@halevipartner.com
SUMMARY:OPEN KRAV MAGA
DESCRIPTION:Open Krav Maga\n\n\nKrav Maga\, die von den israelischen Streitkräften entwickelte Nahkampftechnik\, hat sich weltweit als effiziente waffenlose Kampf — und Sellbstverteidigungstechnik etabliert. \nKrav Maga ist eigentlich kein Kampfsport\, da es nicht darum geht Punkte zu erzielen\, sondern einzig darum\, den Gegner zu besiegen\, wenn ein Kampf unvermeidbar ist. \n\n\n\n\n\n  \nOffene wöchentliche Krav Maga Klasse für alle Levels\, Männer und Frauen ab 16 Jahre. Mittwoch 18:00 bis 19:15 \nZehnerblock: 148 €.-
URL:https://halevipartner.com/event/open-krav-maga/2025-09-03/
LOCATION:Combat & Schieß-Trainingszentrum Halevi Partner\, Rothergasse 2\, Wien\, 1220\, Austria
ATTACH;FMTTYPE=image/jpeg:https://halevipartner.com/wp-content/uploads/2025/06/PHOTO-2025-06-23-15-46-37.jpg
ORGANIZER;CN="Halevi Partner":MAILTO:office@halevipartner.com
END:VEVENT
BEGIN:VEVENT
DTSTART;TZID=Europe/Vienna:20250827T180000
DTEND;TZID=Europe/Vienna:20250827T193000
DTSTAMP:20260424T051821
CREATED:20250704T112831Z
LAST-MODIFIED:20250729T092249Z
UID:10000511-1756317600-1756323000@halevipartner.com
SUMMARY:OPEN KRAV MAGA
DESCRIPTION:Open Krav Maga\n\n\nKrav Maga\, die von den israelischen Streitkräften entwickelte Nahkampftechnik\, hat sich weltweit als effiziente waffenlose Kampf — und Sellbstverteidigungstechnik etabliert. \nKrav Maga ist eigentlich kein Kampfsport\, da es nicht darum geht Punkte zu erzielen\, sondern einzig darum\, den Gegner zu besiegen\, wenn ein Kampf unvermeidbar ist. \n\n\n\n\n\n  \nOffene wöchentliche Krav Maga Klasse für alle Levels\, Männer und Frauen ab 16 Jahre. Mittwoch 18:00 bis 19:15 \nZehnerblock: 148 €.-
URL:https://halevipartner.com/event/open-krav-maga/2025-08-27/
LOCATION:Combat & Schieß-Trainingszentrum Halevi Partner\, Rothergasse 2\, Wien\, 1220\, Austria
ATTACH;FMTTYPE=image/jpeg:https://halevipartner.com/wp-content/uploads/2025/06/PHOTO-2025-06-23-15-46-37.jpg
ORGANIZER;CN="Halevi Partner":MAILTO:office@halevipartner.com
END:VEVENT
BEGIN:VEVENT
DTSTART;TZID=Europe/Vienna:20250820T180000
DTEND;TZID=Europe/Vienna:20250820T193000
DTSTAMP:20260424T051821
CREATED:20250704T112831Z
LAST-MODIFIED:20250729T092249Z
UID:10000510-1755712800-1755718200@halevipartner.com
SUMMARY:OPEN KRAV MAGA
DESCRIPTION:Open Krav Maga\n\n\nKrav Maga\, die von den israelischen Streitkräften entwickelte Nahkampftechnik\, hat sich weltweit als effiziente waffenlose Kampf — und Sellbstverteidigungstechnik etabliert. \nKrav Maga ist eigentlich kein Kampfsport\, da es nicht darum geht Punkte zu erzielen\, sondern einzig darum\, den Gegner zu besiegen\, wenn ein Kampf unvermeidbar ist. \n\n\n\n\n\n  \nOffene wöchentliche Krav Maga Klasse für alle Levels\, Männer und Frauen ab 16 Jahre. Mittwoch 18:00 bis 19:15 \nZehnerblock: 148 €.-
URL:https://halevipartner.com/event/open-krav-maga/2025-08-20/
LOCATION:Combat & Schieß-Trainingszentrum Halevi Partner\, Rothergasse 2\, Wien\, 1220\, Austria
ATTACH;FMTTYPE=image/jpeg:https://halevipartner.com/wp-content/uploads/2025/06/PHOTO-2025-06-23-15-46-37.jpg
ORGANIZER;CN="Halevi Partner":MAILTO:office@halevipartner.com
END:VEVENT
BEGIN:VEVENT
DTSTART;TZID=Europe/Vienna:20250813T180000
DTEND;TZID=Europe/Vienna:20250813T193000
DTSTAMP:20260424T051821
CREATED:20250704T112831Z
LAST-MODIFIED:20250729T092249Z
UID:10000509-1755108000-1755113400@halevipartner.com
SUMMARY:OPEN KRAV MAGA
DESCRIPTION:Open Krav Maga\n\n\nKrav Maga\, die von den israelischen Streitkräften entwickelte Nahkampftechnik\, hat sich weltweit als effiziente waffenlose Kampf — und Sellbstverteidigungstechnik etabliert. \nKrav Maga ist eigentlich kein Kampfsport\, da es nicht darum geht Punkte zu erzielen\, sondern einzig darum\, den Gegner zu besiegen\, wenn ein Kampf unvermeidbar ist. \n\n\n\n\n\n  \nOffene wöchentliche Krav Maga Klasse für alle Levels\, Männer und Frauen ab 16 Jahre. Mittwoch 18:00 bis 19:15 \nZehnerblock: 148 €.-
URL:https://halevipartner.com/event/open-krav-maga/2025-08-13/
LOCATION:Combat & Schieß-Trainingszentrum Halevi Partner\, Rothergasse 2\, Wien\, 1220\, Austria
ATTACH;FMTTYPE=image/jpeg:https://halevipartner.com/wp-content/uploads/2025/06/PHOTO-2025-06-23-15-46-37.jpg
ORGANIZER;CN="Halevi Partner":MAILTO:office@halevipartner.com
END:VEVENT
BEGIN:VEVENT
DTSTART;TZID=Europe/Vienna:20250806T180000
DTEND;TZID=Europe/Vienna:20250806T193000
DTSTAMP:20260424T051821
CREATED:20250704T112831Z
LAST-MODIFIED:20250729T092249Z
UID:10000508-1754503200-1754508600@halevipartner.com
SUMMARY:OPEN KRAV MAGA
DESCRIPTION:Open Krav Maga\n\n\nKrav Maga\, die von den israelischen Streitkräften entwickelte Nahkampftechnik\, hat sich weltweit als effiziente waffenlose Kampf — und Sellbstverteidigungstechnik etabliert. \nKrav Maga ist eigentlich kein Kampfsport\, da es nicht darum geht Punkte zu erzielen\, sondern einzig darum\, den Gegner zu besiegen\, wenn ein Kampf unvermeidbar ist. \n\n\n\n\n\n  \nOffene wöchentliche Krav Maga Klasse für alle Levels\, Männer und Frauen ab 16 Jahre. Mittwoch 18:00 bis 19:15 \nZehnerblock: 148 €.-
URL:https://halevipartner.com/event/open-krav-maga/2025-08-06/
LOCATION:Combat & Schieß-Trainingszentrum Halevi Partner\, Rothergasse 2\, Wien\, 1220\, Austria
ATTACH;FMTTYPE=image/jpeg:https://halevipartner.com/wp-content/uploads/2025/06/PHOTO-2025-06-23-15-46-37.jpg
ORGANIZER;CN="Halevi Partner":MAILTO:office@halevipartner.com
END:VEVENT
BEGIN:VEVENT
DTSTART;TZID=Europe/Vienna:20250730T180000
DTEND;TZID=Europe/Vienna:20250730T193000
DTSTAMP:20260424T051821
CREATED:20250704T112831Z
LAST-MODIFIED:20250729T092249Z
UID:10000507-1753898400-1753903800@halevipartner.com
SUMMARY:OPEN KRAV MAGA
DESCRIPTION:Open Krav Maga\n\n\nKrav Maga\, die von den israelischen Streitkräften entwickelte Nahkampftechnik\, hat sich weltweit als effiziente waffenlose Kampf — und Sellbstverteidigungstechnik etabliert. \nKrav Maga ist eigentlich kein Kampfsport\, da es nicht darum geht Punkte zu erzielen\, sondern einzig darum\, den Gegner zu besiegen\, wenn ein Kampf unvermeidbar ist. \n\n\n\n\n\n  \nOffene wöchentliche Krav Maga Klasse für alle Levels\, Männer und Frauen ab 16 Jahre. Mittwoch 18:00 bis 19:15 \nZehnerblock: 148 €.-
URL:https://halevipartner.com/event/open-krav-maga/2025-07-30/
LOCATION:Combat & Schieß-Trainingszentrum Halevi Partner\, Rothergasse 2\, Wien\, 1220\, Austria
ATTACH;FMTTYPE=image/jpeg:https://halevipartner.com/wp-content/uploads/2025/06/PHOTO-2025-06-23-15-46-37.jpg
ORGANIZER;CN="Halevi Partner":MAILTO:office@halevipartner.com
END:VEVENT
BEGIN:VEVENT
DTSTART;TZID=Europe/Vienna:20250723T180000
DTEND;TZID=Europe/Vienna:20250723T193000
DTSTAMP:20260424T051821
CREATED:20250704T112831Z
LAST-MODIFIED:20250729T092249Z
UID:10000486-1753293600-1753299000@halevipartner.com
SUMMARY:OPEN KRAV MAGA
DESCRIPTION:Open Krav Maga\n\n\nKrav Maga\, die von den israelischen Streitkräften entwickelte Nahkampftechnik\, hat sich weltweit als effiziente waffenlose Kampf — und Sellbstverteidigungstechnik etabliert. \nKrav Maga ist eigentlich kein Kampfsport\, da es nicht darum geht Punkte zu erzielen\, sondern einzig darum\, den Gegner zu besiegen\, wenn ein Kampf unvermeidbar ist. \n\n\n\n\n\n  \nOffene wöchentliche Krav Maga Klasse für alle Levels\, Männer und Frauen ab 16 Jahre. Mittwoch 18:00 bis 19:15 \nZehnerblock: 148 €.-
URL:https://halevipartner.com/event/open-krav-maga/2025-07-23/
LOCATION:Combat & Schieß-Trainingszentrum Halevi Partner\, Rothergasse 2\, Wien\, 1220\, Austria
ATTACH;FMTTYPE=image/jpeg:https://halevipartner.com/wp-content/uploads/2025/06/PHOTO-2025-06-23-15-46-37.jpg
ORGANIZER;CN="Halevi Partner":MAILTO:office@halevipartner.com
END:VEVENT
BEGIN:VEVENT
DTSTART;TZID=Europe/Vienna:20250716T180000
DTEND;TZID=Europe/Vienna:20250716T193000
DTSTAMP:20260424T051821
CREATED:20250704T112831Z
LAST-MODIFIED:20250729T092249Z
UID:10000485-1752688800-1752694200@halevipartner.com
SUMMARY:OPEN KRAV MAGA
DESCRIPTION:Open Krav Maga\n\n\nKrav Maga\, die von den israelischen Streitkräften entwickelte Nahkampftechnik\, hat sich weltweit als effiziente waffenlose Kampf — und Sellbstverteidigungstechnik etabliert. \nKrav Maga ist eigentlich kein Kampfsport\, da es nicht darum geht Punkte zu erzielen\, sondern einzig darum\, den Gegner zu besiegen\, wenn ein Kampf unvermeidbar ist. \n\n\n\n\n\n  \nOffene wöchentliche Krav Maga Klasse für alle Levels\, Männer und Frauen ab 16 Jahre. Mittwoch 18:00 bis 19:15 \nZehnerblock: 148 €.-
URL:https://halevipartner.com/event/open-krav-maga/2025-07-16/
LOCATION:Combat & Schieß-Trainingszentrum Halevi Partner\, Rothergasse 2\, Wien\, 1220\, Austria
ATTACH;FMTTYPE=image/jpeg:https://halevipartner.com/wp-content/uploads/2025/06/PHOTO-2025-06-23-15-46-37.jpg
ORGANIZER;CN="Halevi Partner":MAILTO:office@halevipartner.com
END:VEVENT
BEGIN:VEVENT
DTSTART;TZID=Europe/Vienna:20250709T180000
DTEND;TZID=Europe/Vienna:20250709T193000
DTSTAMP:20260424T051821
CREATED:20250704T112831Z
LAST-MODIFIED:20250729T092249Z
UID:10000484-1752084000-1752089400@halevipartner.com
SUMMARY:OPEN KRAV MAGA
DESCRIPTION:Open Krav Maga\n\n\nKrav Maga\, die von den israelischen Streitkräften entwickelte Nahkampftechnik\, hat sich weltweit als effiziente waffenlose Kampf — und Sellbstverteidigungstechnik etabliert. \nKrav Maga ist eigentlich kein Kampfsport\, da es nicht darum geht Punkte zu erzielen\, sondern einzig darum\, den Gegner zu besiegen\, wenn ein Kampf unvermeidbar ist. \n\n\n\n\n\n  \nOffene wöchentliche Krav Maga Klasse für alle Levels\, Männer und Frauen ab 16 Jahre. Mittwoch 18:00 bis 19:15 \nZehnerblock: 148 €.-
URL:https://halevipartner.com/event/open-krav-maga/2025-07-09/
LOCATION:Combat & Schieß-Trainingszentrum Halevi Partner\, Rothergasse 2\, Wien\, 1220\, Austria
ATTACH;FMTTYPE=image/jpeg:https://halevipartner.com/wp-content/uploads/2025/06/PHOTO-2025-06-23-15-46-37.jpg
ORGANIZER;CN="Halevi Partner":MAILTO:office@halevipartner.com
END:VEVENT
END:VCALENDAR